BEGIN:VCALENDAR
VERSION:2.0
PRODID:-//The Unity Centre Association For Black Cultures - ECPv6.15.20//NONSGML v1.0//EN
CALSCALE:GREGORIAN
METHOD:PUBLISH
X-ORIGINAL-URL:https://ucabc.ca
X-WR-CALDESC:Events for The Unity Centre Association For Black Cultures
REFRESH-INTERVAL;VALUE=DURATION:PT1H
X-Robots-Tag:noindex
X-PUBLISHED-TTL:PT1H
BEGIN:VTIMEZONE
TZID:America/Vancouver
BEGIN:DAYLIGHT
TZOFFSETFROM:-0800
TZOFFSETTO:-0700
TZNAME:PDT
DTSTART:20230312T100000
END:DAYLIGHT
BEGIN:STANDARD
TZOFFSETFROM:-0700
TZOFFSETTO:-0800
TZNAME:PST
DTSTART:20231105T090000
END:STANDARD
BEGIN:DAYLIGHT
TZOFFSETFROM:-0800
TZOFFSETTO:-0700
TZNAME:PDT
DTSTART:20240310T100000
END:DAYLIGHT
BEGIN:STANDARD
TZOFFSETFROM:-0700
TZOFFSETTO:-0800
TZNAME:PST
DTSTART:20241103T090000
END:STANDARD
BEGIN:DAYLIGHT
TZOFFSETFROM:-0800
TZOFFSETTO:-0700
TZNAME:PDT
DTSTART:20250309T100000
END:DAYLIGHT
BEGIN:STANDARD
TZOFFSETFROM:-0700
TZOFFSETTO:-0800
TZNAME:PST
DTSTART:20251102T090000
END:STANDARD
BEGIN:DAYLIGHT
TZOFFSETFROM:-0800
TZOFFSETTO:-0700
TZNAME:PDT
DTSTART:20260308T100000
END:DAYLIGHT
BEGIN:STANDARD
TZOFFSETFROM:-0700
TZOFFSETTO:-0800
TZNAME:PST
DTSTART:20261101T090000
END:STANDARD
END:VTIMEZONE
BEGIN:VEVENT
DTSTART;TZID=America/Vancouver:20251025T150000
DTEND;TZID=America/Vancouver:20251025T200000
DTSTAMP:20260423T063459
CREATED:20251022T072159Z
LAST-MODIFIED:20251022T072159Z
UID:1363-1761404400-1761422400@ucabc.ca
SUMMARY:Phenomenal Black Woman Networking & Social.
DESCRIPTION:  \nThe Unity Centre Association for Black Cultures (UCABC) is a proud sponsor of the \n4th Annual Phenomenal Black Women Networking & Social (PBWNS)! 🎉 \n📅 Date: Saturday\, October 25th\, 2025\n📍 Venue: Civic Hotel\, Surrey\, BC \nThis will be an upscale evening filled with:\n💛 Networking that can enhance your career and personal journey\n💛 Celebration of local Black women movers and shakers\n💛 Heartfelt conversations that fill your spirit and leave your cup overflowing \n✨ this year’s theme is\n“Stepping Boldly Into Your Power\, Unapologetically and Softly” \n👉 Don’t wait\, make sure to secure your ticket today:
URL:https://ucabc.ca/event/phenomenal-black-woman-networking-social/
LOCATION:Civic Hotel\, 13475 Central Ave\, Surrey\, BC\, V3T 0L8\, Canada
END:VEVENT
BEGIN:VEVENT
DTSTART;TZID=America/Vancouver:20240601T100000
DTEND;TZID=America/Vancouver:20240602T170000
DTSTAMP:20260423T063459
CREATED:20240531T224806Z
LAST-MODIFIED:20240531T232921Z
UID:1348-1717236000-1717347600@ucabc.ca
SUMMARY:UCABC at the Afro World Expo!
DESCRIPTION:Join us for the Afro World Expo 2024\, Western Canada’s largest and most exciting celebration of African and Caribbean culture and products! This vibrant event promises a rich tapestry of experiences that celebrate the diversity and beauty of the vast cultures across the diaspora. Event highlights include a performances\, a live DJ\, family-friendly activities\, and so much more! \nExplore a diverse array of stalls and exhibits featuring authentic African and Caribbean products. From vibrant textiles and handcrafted jewelry to delicious food and beverages\, there’s something for everyone. Discover new products\, connect with vendors\, and take home a piece of the culture. \nAfro World Expo 2024 is more than just an event; it’s a celebration of community\, culture\, and connection. Whether you’re looking to learn more about African and Caribbean cultures\, enjoy some great music and fashion\, or simply have a fun day out with the family\, this expo has it all. \nDon’t miss out on this incredible event! Mark your calendars and get ready for an unforgettable experience at Afro World Expo 2024. \nCost: $5 per day \nClick here to purchase your tickets.
URL:https://ucabc.ca/event/ucabc-at-the-afro-world-expo-2/
LOCATION:Canada Place\, 999 Canada Place\, Vancouver\, BC\, V6C 3E1\, Canada
ATTACH;FMTTYPE=image/jpeg:https://ucabc.ca/wp-content/uploads/2024/05/UCABC-at-AfroWorldExpo-1-scaled.jpg
END:VEVENT
BEGIN:VEVENT
DTSTART;TZID=America/Vancouver:20240601T100000
DTEND;TZID=America/Vancouver:20240602T170000
DTSTAMP:20260423T063459
CREATED:20240531T224806Z
LAST-MODIFIED:20240531T232921Z
UID:1348-1717236000-1717347600@ucabc.ca
SUMMARY:UCABC at the Afro World Expo!
DESCRIPTION:Join us for the Afro World Expo 2024\, Western Canada’s largest and most exciting celebration of African and Caribbean culture and products! This vibrant event promises a rich tapestry of experiences that celebrate the diversity and beauty of the vast cultures across the diaspora. Event highlights include a performances\, a live DJ\, family-friendly activities\, and so much more! \nExplore a diverse array of stalls and exhibits featuring authentic African and Caribbean products. From vibrant textiles and handcrafted jewelry to delicious food and beverages\, there’s something for everyone. Discover new products\, connect with vendors\, and take home a piece of the culture. \nAfro World Expo 2024 is more than just an event; it’s a celebration of community\, culture\, and connection. Whether you’re looking to learn more about African and Caribbean cultures\, enjoy some great music and fashion\, or simply have a fun day out with the family\, this expo has it all. \nDon’t miss out on this incredible event! Mark your calendars and get ready for an unforgettable experience at Afro World Expo 2024. \nCost: $5 per day \nClick here to purchase your tickets.
URL:https://ucabc.ca/event/ucabc-at-the-afro-world-expo-2/
LOCATION:Canada Place\, 999 Canada Place\, Vancouver\, BC\, V6C 3E1\, Canada
ATTACH;FMTTYPE=image/jpeg:https://ucabc.ca/wp-content/uploads/2024/05/UCABC-at-AfroWorldExpo-1-scaled.jpg
END:VEVENT
END:VCALENDAR